BEGIN:VCALENDAR
VERSION:2.0
CALSCALE:GREGORIAN
METHOD:PUBLISH
BEGIN:VEVENT
SUMMARY:ScorePilot v1.4.0 Release!
DTSTART;VALUE=DATE:20260325
DTEND;VALUE=DATE:20260326
URL:https://support.sportinthebox.com/sv/news/posts/146
END:VEVENT
END:VCALENDAR
